Workbook
Name Activity: 'OFFICE USE ONLY'!$E$9:$E$12
Name ADD: 'OFFICE USE ONLY'!$E$121:$E$135
Name AffiliateEmploy: 'OFFICE USE ONLY'!#REF!
Name AffiliateOwn: 'OFFICE USE ONLY'!$E$46:$E$47
Name Amendment: 'OFFICE USE ONLY'!$A$11:$A$15
Name BenefitPercent: 'OFFICE USE ONLY'!#REF!
Name Benefits: 'OFFICE USE ONLY'!$E$93:$E$94
Name Building: Budget!#REF!
Name Building: 'Primary Goals and Reporting'!#REF!
Name Building: 'Project Info'!#REF!
Name Building: #REF!
Name CapLease: 'OFFICE USE ONLY'!#REF!
Name Cert1: '[1]OFFICE USE ONLY'!$E$4:$E$5
Name Cert2: '[1]OFFICE USE ONLY'!$E$8:$E$9
Name Cert3: '[1]OFFICE USE ONLY'!$E$12:$E$13
Name Cert4: 'OFFICE USE ONLY'!$E$61:$E$62
Name CertifyExpand: 'OFFICE USE ONLY'!#REF!
Name CertifyNew: 'OFFICE USE ONLY'!#REF!
Name Contact: 'OFFICE USE ONLY'!$E$31:$E$32
Name County: 'OFFICE USE ONLY'!$A$22:$A$141
Name Crime: 'OFFICE USE ONLY'!$A$18:$A$19
Name Date: 'OFFICE USE ONLY'!$A$4:$A$15
Name DisclBeneficiary: 'OFFICE USE ONLY'!#REF!
Name Disclosure: 'OFFICE USE ONLY'!#REF!
Name DisclQuestion: 'OFFICE USE ONLY'!$E$66:$E$67
Name EDBChildA: 'OFFICE USE ONLY'!#REF!
Name EDBChildB: 'OFFICE USE ONLY'!#REF!
Name EDBChildC: 'OFFICE USE ONLY'!#REF!
Name EDBLocalAgency: 'OFFICE USE ONLY'!#REF!
Name EDBLocalAssign: 'OFFICE USE ONLY'!#REF!
Name Enhanced: 'OFFICE USE ONLY'!#REF!
Name EnhIncCounty: #REF!
Name Equipment: Budget!#REF!
Name Equipment: 'Primary Goals and Reporting'!#REF!
Name Equipment: 'Project Info'!#REF!
Name Equipment: #REF!
Name Existing: 'OFFICE USE ONLY'!$E$41:$E$42
Name ExpandA: 'OFFICE USE ONLY'!$E$78:$E$79
Name ExpandB: 'OFFICE USE ONLY'!$E$83:$E$84
Name ExpandC: 'OFFICE USE ONLY'!$E$88:$E$89
Name ExpandFacility: 'OFFICE USE ONLY'!$E$73:$E$74
Name Facility: 'OFFICE USE ONLY'!$E$145:$E$147
Name FundingRequired: 'OFFICE USE ONLY'!$E$41:$E$42
Name Improvements: Budget!#REF!
Name Improvements: 'Primary Goals and Reporting'!#REF!
Name Improvements: 'Project Info'!#REF!
Name Improvements: #REF!
Name InvestCost: Budget!#REF!
Name InvestCost: 'Primary Goals and Reporting'!#REF!
Name InvestCost: 'Project Info'!#REF!
Name InvestCost: #REF!
Name JobCreate: Budget!#REF!
Name JobCreate: 'Primary Goals and Reporting'!#REF!
Name JobCreate: 'Project Info'!#REF!
Name JobCreate: #REF!
Name Land: Budget!#REF!
Name Land: 'Primary Goals and Reporting'!#REF!
Name Land: 'Project Info'!#REF!
Name Land: #REF!
Name MinComp: 'OFFICE USE ONLY'!#REF!

Sheet Instructions
A1: CONFIDENTIAL
A2: APPLICATION FOR:
A3: KENTUCKY TALENT RECRUITMENT GRANT PROGRAM
A4: (KTRGP)
G6: ='Project Info'!F4 -> Rev 9/2026
A8: INSTRUCTIONS
A9: All applicants should familiarize themselves with the information regarding the incentive programs for which application is made as well as other applicable program statutory requirements. More information can be found on the Cabinet's web page at:
C10: https://newkentuckyhome.ky.gov/Locating_Expanding/Talent
A12: The application, consisting of the Project Information, Budget, Primary Goals and Reporting, Certification, and Disclosure worksheets, should be completed and submitted, including the required attachments, by emailing to the following address:
D14: ECONDEV@KY.GOV
A16: The complete and entire application and required attachments must be completed and received at the email address above to be considered for review/evaluation. If any of the required attachments, documentation or evaluation criteria is not included in the application or attached when initially received, the application will be returned for correction.
A18: KTRGP Program applications scoring a minimum score of 60 or more will be considered for review/evaluation and approval.
A20: For Electronic Signature: The person responsible for signing the document may type his/her name in the signature field, but the name must be preceded by a “/s” (e.g., /s Jim Smith). An email is also required from the signer providing a statement certifying/authenticating the typed signature on the document is his/her signature.
A22: REQUIRED ATTACHMENT CHECKLIST
A23: The following items must be submitted in addition to the completed application:
B25: A letter from the applicant providing an overview of the project, scope of work, and impact. Limit one page.
B27: Organization chart or staff plan demonstrating capacity to administer the program.
B29: Evidence of local match availability (e.g., letter from funding source, budget documentation).
B31: Applicant's resolution authorizing the submission of the application and authority to enter into any legal agreements.
B33: For non-profit 501(c)(3) and 501(c)(6) applicants, a completed and signed Request for Taxpayer Identification Number is required along with a copy of the IRS determination letter.
B35: Any existing talent attraction materials, campaign assets, or program desciptions (if applicable).
B37: A letter endorsing the project from the appropriate local elected official (e.g., Mayor, County Judge) from the community where the project will be located. If this is a regional project, please submit letters of support from all of the cities/counties that are participating.

Sheet Project Info
A1: CONFIDENTIAL
A2: APPLICATION FOR KTRGP
A3: PROJECT INFORMATION
F4: Rev 9/2026
A5: Date:
A7: KTRGP APPLICANT INFORMATION
A8: Applicant Name
A10: Street Address | E10: City | H10: State | I10: Zip Code
A12: Mailing Address | E12: City | H12: State | I12: Zip Code
A14: Organization Type
A16: Salutation | B16: Project Contact Person | F16: Title | I16: Telephone
A18: Email Address | F18: Website
B20: Is the applicant registered and in good standing with the Kentucky Secretary of State?
A22: Has the applicant, or any owner or affiliate of the applicant, ever been convicted of any criminal offenses, been in receivership or adjudicated a bankruptcy, or been denied a business related license or had a business related license suspended or revoked by any administrative, governmental or regulatory agency?
B23: If yes, please list the violation and explain (attach additional explanation if needed):
A26: REQUIRED ATTACHMENT: A resolution adopted by the governing body of the applicant requesting submission of this application and authorizing the execution of any documents, including the Agreement, with the Cabinet.
A28: PROJECT CONTACTS
A29: Is the contact person for the project location the same as the person listed in the
A30: KTRGP Applicant Information section? | F30: If no, then please complete the following:
A31: Salutation | B31: Contact Person | F31: Email | I31: Telephone
A34: REGIONAL APPLICATION
A35: Is this a Regional Project? | F35: Total Participating Counties
A37: County 1 | F37: County 6
A38: County 2 | F38: County 7
A39: County 3 | F39: County 8
A40: County 4 | F40: County 9
A41: County 5 | F41: County 10
A43: PROJECT OVERVIEW
A44: Project Title:
A46: Funding Category (select all that apply)
A48: FALSE | B48: Relocation - Category A
A50: FALSE | B50: Student Retention - Category B
A52: FALSE | B52: Targeted Marketing - Category C
A54: Target Geography: The specific localities, counties, or region the program will serve.
A57: Target Audience: Describe the specific audience(s) this program will reach (e.g., remote workers in mid-career, recent graduates of KY universities, healthcare workers in target external metros).
A60: Program Start Date: | F60: Program End Date:
A62: PROGRAM NARRATIVE
A63: Program Description: Describe the program in detail. What will you do? How will you do it? What makes this approach well-suited to your region's needs? (500 words max per category).
A66: Regional Need: What workforce or population challenges is this program designed to address? Cite relevant data where available.
A69: Strategic Rationale: Why is this the right approach for your region? How does it build on existing assets, partnerships, or infrastructure?
...

Sheet Budget
A1: CONFIDENTIAL
A2: APPLICATION FOR KTRGP
A3: BUDGET
F4: Rev 9/2026
A7: PROJECT COSTS
D8: Relocation - Category A | F8: Retention - Category B | H8: Marketing - Category C | J8: Total
A9: Program Design & Strategy | E9: =IF(ISBLANK(D9),"",D9/$D$14) | G9: =IF(ISBLANK(F9),"",F9/$F$14) | I9: =IF(ISBLANK(H9),"",H9/$H$14) | J9: =D9+F9+H9 -> 0 | K9: =IF(J9=0,"",J9/$J$14)
A10: Program Administration | E10: =IF(ISBLANK(D10),"",D10/$D$14) | G10: =IF(ISBLANK(F10),"",F10/$F$14) | I10: =IF(ISBLANK(H10),"",H10/$H$14) | J10: =D10+F10+H10 -> 0 | K10: =IF(J10=0,"",J10/$J$14)
A11: Marketing & Outreach | E11: =IF(ISBLANK(D11),"",D11/$D$14) | G11: =IF(ISBLANK(F11),"",F11/$F$14) | I11: =IF(ISBLANK(H11),"",H11/$H$14) | J11: =D11+F11+H11 -> 0 | K11: =IF(J11=0,"",J11/$J$14)
A12: Relocation Incentives | E12: =IF(ISBLANK(D12),"",D12/$D$14) | G12: =IF(ISBLANK(F12),"",F12/$F$14) | I12: =IF(ISBLANK(H12),"",H12/$H$14) | J12: =D12+F12+H12 -> 0 | K12: =IF(J12=0,"",J12/$J$14)
A13: Other Costs | E13: =IF(ISBLANK(D13),"",D13/$D$14) | G13: =IF(ISBLANK(F13),"",F13/$F$14) | I13: =IF(ISBLANK(H13),"",H13/$H$14) | J13: =D13+F13+H13 -> 0 | K13: =IF(J13=0,"",J13/$J$14)
A14: Total | D14: =SUM(D9:D13) -> 0 | E14: =IF(D14=0,"",D14/J14) | F14: =SUM(F9:F13) -> 0 | G14: =IF(F14=0,"",F14/J14) | H14: =SUM(H9:H13) -> 0 | I14: =IF(H14=0,"",H14/J14) | J14: =SUM(J9:J13) -> 0 | K14: =SUM(K9:K13) -> 0
A16: Please describe any "Other Costs."
A19: FINANCING SOURCES
A20: Please list all financing sources below. If additional space is needed, please let the Cabinet for Economic Development know. Local match must be a MINIMUM of 20% of total project cost.
H22: Funding Secured? | J22: Amount
A23: Kentucky Talent Retention Grant Program Request | H23: Requested | K23: =IF(ISBLANK(J23),"",J23/$J$34)
A24: Local Match | K24: =IF(ISBLANK(J24),"",J24/$J$34)
K25: =IF(ISBLANK(J25),"",J25/$J$34)
K26: =IF(ISBLANK(J26),"",J26/$J$34)
K27: =IF(ISBLANK(J27),"",J27/$J$34)
K28: =IF(ISBLANK(J28),"",J28/$J$34)
K29: =IF(ISBLANK(J29),"",J29/$J$34)
K30: =IF(ISBLANK(J30),"",J30/$J$34)
K31: =IF(ISBLANK(J31),"",J31/$J$34)
K32: =IF(ISBLANK(J32),"",J32/$J$34)
K33: =IF(ISBLANK(J33),"",J33/$J$34)
A34: Total | J34: =SUM(J23:J33) -> 0
A36: Please explain any costs that are "Identified (not committed)."
A39: REGIONAL PROJECTS
A40: Describe how each participating county or organization is contributing to the local match.

Sheet Primary Goals and Reporting
A1: CONFIDENTIAL
A2: APPLICATION FOR KTRGP
A3: PRIMARY GOALS AND REPORTING
F4: Rev 9/2026
A7: PRIMARY GOALS
A8: Household Goal - Recruitment (Category A): Please list the total number of households this program seeks to successfully incentivize to relocate from outside Kentucky to your locality.
A16: Grant Amount per Household - Recruitment (Category A): (select for more details)
A19: Retention Goal - Retention (Category B): Define the measurable retention goal and KPIs that will be used to evaluate program performance. KPIs may include students reached, employer connections, awareness or intent to remain in Kentucky, and verified in-state placements where trackable.
A27: Marketing Goal - Marketing (Category C): Define the measurable marketing goal, KPIs, and implementation milestones that will be used to evaluate progress. These may include completion of approved research and strategy deliverables, campaign launch, reach and engagement, qualified leads, high-intent actions, or documented perception shifts, as appropriate to the program stage.
A35: Anticipated Program Impact - All Categories: Define the measurable retention goal and KPIs that will be used to evaluate program performance. KPIs may include students reached, employer connections, awareness or intent to remain in Kentucky, and verified in-state placements where trackable.
A43: REPORTING METRIC
A44: Specific Metrics: List the KPIs and implementation milestones that will be tracked and reported semiannually. These will be reviewed and finalized as part of the grant agreement and used to evaluate second-tranche eligibility.
A52: Tracking Methodology: How will you verify and document outcomes? (e.g., lease or utility agreements, employer confirmation, survey data, web analytics).

Sheet Certification
A1: CONFIDENTIAL
A2: APPLICATION FOR INCENTIVE PROGRAMS
A3: CERTIFICATION OF APPLICATION
A5: KTRGP Applicant Name
A6: =IF('Project Info'!A9="","",'Project Info'!A9)
A7: County Where Project will be Located
A8: =IF('Project Info'!B37="","",'Project Info'!B37)
A10: CERTIFICATION
A11: Eligibility for financial assistance is determined by the information presented in this application and in the required attachments. Any changes in the status of the proposed project from the facts presented herein, including but not limited to the commencement of construction, any public announcement or legal commitment (e.g., lease or contract) without contingency language, could jeopardize the project's eligibility for incentives. Please contact the staff of the Authority before taking any action which would change the status of the project as reported herein.
A13: I, the undersigned, on behalf of the applicant, hereby represent and certify that the foregoing application information, including all attachments, to the best of my knowledge, is (a) true, complete and accurate with respect to the information concerning the proposed project for which financial incentives are sought; and (b) does not contain any information for which any entity competing with the applicant may claim a proprietary interest.
A15: The undersigned, on behalf of the applicant, acknowledges that information contained within the application and its attachments may be subject to public disclosure to the extent required by law pursuant to any request made under the Kentucky Open Records Act contained in Chapter 61 of the Kentucky Revised Statutes. Notwithstanding the above, except as otherwise agreed to by the applicant in writing, no confidential or proprietary application information shall be disclosed if properly excluded from disclosure under KRS 61.878 (as determined by the Authority, the Kentucky Attorney General or court of competent jurisdiction). Information reported to the Cabinet or the Authority with regard to employment numbers, average wages, investment, eligible costs, approved costs and other information as required by an incentive agreement shall be available for public disclosure.
A17: For each of the following statements, enter Yes if the corresponding statement is an accurate statement for the applicant entity. Enter No if the corresponding statement is not an accurate statement for the applicant entity. Each response shall operate as a separate certification. The undersigned hereby certifies to the best of his/her knowledge:
B18: The applicant (including any affiliate) has not been placed in receivership or bankruptcy, been denied a business-related license, or had a business-related license revoked by any administrative, governmental, or regulatory agency.
B20: The Chief Executive Officer, or a similarly situated person in charge of the applicant's executive operations, has not been convicted of any criminal offenses or filed for bankruptcy within the last ten years.
B22: The Chief Financial Officer, or a similarly situated person in charge of the applicant's financial affairs, has not been convicted of any criminal offenses or filed for bankruptcy within the last ten years.
A24: If unable to answer Yes to all three of the statements above, please attach a brief explanation on a separate sheet of paper which shall be incorporated as an attachment to this application.
A25: The applicant shall make the Cabinet aware if, subsequent to the filing of this application, including during the term of any agreement entered into between the applicant and the Cabinet or KEDFA, the applicant, or any owner or affiliate of the applicant, is convicted of any criminal offenses, is placed in receivership or adjudicates a bankruptcy, or is denied a business related license or has a business related license suspended or revoked by any administrative, governmental or regulatory agency.
A27: The undersigned, on behalf of the applicant, acknowledges that the applicant will be required to self-report annually the total amount of incentives claimed for each year during the term of the incentive agreement and agrees to provide this information annually. Failure to provide the information may result in suspension of incentives.
A29: In addition, the undersigned, on behalf of the applicant, acknowledges and grants permission to the Authority to share any and all information contained within the application and its attachments with appropriate state and federal agencies, local jurisdiction(s) and contracted consultants to determine the feasibility and potential impacts associated with the project for which incentives are sought.
A33: Signature | G33: Title
A36: Print Name | G36: Date
A38: For Electronic Signature: The person responsible for signing the document may type his/her name in the signature field, but the name must be preceded by a “/s” (e.g., /s Jim Smith). An email is also required from the signer providing a statement certifying/authenticating the typed signature on the document is his/her signature.

Sheet Disclosure
A1: CONFIDENTIAL
A2: APPLICATION FOR INCENTIVE PROGRAMS
A3: ATTACHMENT A - INCENTIVE DISCLOSURE
A4: STATEMENT
A6: KTRGP Applicant Name
A7: =IF('Project Info'!A9="","",'Project Info'!A9)
A8: County Where Project will be Located
A9: =IF('Project Info'!B37="","",'Project Info'!B37)
A11: INSTRUCTIONS: In accordance with the Executive Branch Code of Ethics, Chapter 11A of the Kentucky Revised Statutes ("KRS"), before any board or authority within or attached to the Cabinet for Economic Development ("CED") takes final action on any contract or agreement by which a bond, grant, lease, loan, assessment, incentive, inducement, or tax credit is awarded (the "incentive package"), the applicant of the incentive package must file with the approving board or authority a disclosure statement stating: (i) the identity of the applicant of the incentive package, (ii) the identity of any person employed to act on behalf of the applicant with respect to the incentive package, (iii) the details of any financial transaction (as defined in KRS 11A.201(6)(a), see below) between the applicant (or any other person listed in (ii) above) and any agent or public servant of the CED, any member of any board or authority within or attached to that Cabinet, or any other public servant involved in the negotiation of the economic incentive package.
A12: Your application or request will not be processed until this form is filed. CED will file copies of this form with the Executive Branch Ethics Commission pursuant to KRS 11A.233(2).
A14: NOTE: For purposes of KRS 11A.201(6)(a), the definition of "financial transaction" is activity conducted or undertaken for profit, not available to the general public on the same terms, that arises from the joint ownership, the ownership, or part ownership in common, of any real or personal property or any commercial or business enterprise of whatever form between:
B16: 1) Applicant, agent or employee of the applicant; and
B18: 2) CED agent, employee, member of board or authority attached to CED, or other public servant involved in the negotiation of any incentive package.
A20: Applicant's Legal Name
A21: =IF('Project Info'!A9="","",'Project Info'!A9)
A23: Type(s) of Economic Incentive Package(s): | D23: Kentucky Talent Recruitment Grant Program (KTRGP)
A25: Please identify all employees or agents of the Applicant who have acted on behalf of the Applicant in its dealings with the CED or any board or authority within or attached to the CED in regard to the above incentive package:
A27: Name | E27: Title | H27: Organization
B34: Please attach additional listing if more space is needed.
A36: Have any of the employees or agents of the Applicant had any "financial transactions" (as defined above) with a CED agent, employee, or a board or agency attached to CED or any other public servant involved in the negotiation of any economic incentive package?
A38: If yes, please detail any "financial transactions" (as defined above) between the Applicant (or any other person listed as an employee or agent of the Applicant) and (i) any agent or public servant of the CED, (ii) any member of any board or authority within or attached to that Cabinet, or (iii) any other public servant involved in the negotiation of the economic incentive package:
A40: TRANSACTION 1
A41: Name of Applicant (agent or employee) | F41: Name of CED (agent, employee, or board/authority member)
A43: Name of Other Public Servant
A45: Description of Financial Transaction
A48: TRANSACTION 2
A49: Name of Applicant (agent or employee) | F49: Name of CED (agent, employee, or board/authority member)
A51: Name of Other Public Servant
A53: Description of Financial Transaction
A56: TRANSACTION 3
A57: Name of Applicant (agent or employee) | F57: Name of CED (agent, employee, or board/authority member)
A59: Name of Other Public Servant
A61: Description of Financial Transaction
B64: Please attach additional listing if more space is needed.
A66: The undersigned, a duly authorized representative of the Applicant listed above, hereby certifies that the information set forth in this Economic Incentive Disclosure Statement has been reviewed, and is true and correct to the best of the knowledge of the undersigned.
A71: Signature | G71: Date
A73: For Electronic Signature: The person responsible for signing the document may type his/her name in the signature field, but the name must be preceded by a “/s” (e.g., /s Jim Smith). An email is also required from the signer providing a statement certifying/authenticating the typed signature on the document is his/her signature.

Sheet OFFICE USE ONLY
A3: Date | E3: SOS | G3: Likely
A4: 46204 | E4: Yes | G4: Extremely Likely | H4: 5
A5: 46235 | E5: No | G5: Most Likely | H5: 3
A6: 46266 | G6: Likely | H6: 1
A7: 46296 | G7: Unlikely | H7: 0
A8: 46327 | E8: Activity
A9: 46357 | E9: Agribusiness
A10: 46388 | E10: Manufacturing
A11: 46419 | E11: Headquarters operation | G11: ScoreYN
A12: 46447 | E12: Non-retail service or technology | G12: Yes
A13: 46478 | G13: No
A14: 46508
A15: 46539 | E15: Public Owned
E16: Yes | G16: Business Served
A17: Crime | E17: No | G17: 0 | H17: 0
A18: Yes | G18: 1 - 20 | H18: 1
A19: No | G19: 21 - 50 | H19: 2
E20: LOI or Option | G20: 51 - 100 | H20: 4
A21: County | B21: Match | C21: Impact Counties | E21: Yes | G21: More than 100 | H21: 5
A22: Adair | B22: 0.06 | C22: 1 | E22: No
A23: Allen | B23: 0.08 | C23: 0
A24: Anderson | B24: 0.1 | C24: 0 | G24: Households Served
A25: Ballard | B25: 0.02 | C25: 0 | E25: Sale Agreement | G25: 0 | H25: 0
A26: Barren | B26: 0.08 | C26: 1 | E26: Yes | G26: 1 - 200 | H26: 1
A27: Bath | B27: 0.08 | C27: 1 | E27: No | G27: 201 - 500 | H27: 2
A28: Bell | B28: 0.04 | C28: 1 | G28: 501 - 1,000 | H28: 4
A29: Boone | B29: 0.1 | C29: 0 | G29: More than 1,000 | H29: 5
A30: Bourbon | B30: 0.06 | C30: 0 | E30: Contact
A31: Boyd | B31: 0.08 | C31: 1 | E31: Yes
A32: Boyle | B32: 0.1 | C32: 1 | E32: No | G32: Direct Jobs Created
A33: Bracken | B33: 0.04 | C33: 0 | G33: 0 | H33: 0
A34: Breathitt | B34: 0.02 | C34: 1 | G34: 1 - 25 | H34: 1
A35: Breckinridge | B35: 0.06 | C35: 1 | E35: Submitted | G35: 26 - 50 | H35: 2
A36: Bullitt | B36: 0.1 | C36: 0 | E36: Yes | G36: 51 - 100 | H36: 4
A37: Butler | B37: 0.02 | C37: 0 | E37: No | G37: More than 100 | H37: 5
A38: Caldwell | B38: 0.04 | C38: 0
A39: Calloway | B39: 0.08 | C39: 0
A40: Campbell | B40: 0.08 | C40: 0 | E40: Funding Required | G40: Indirect Jobs Created
A41: Carlisle | B41: 0.02 | C41: 0 | E41: Yes | G41: 0 | H41: 0
A42: Carroll | B42: 0.06 | C42: 0 | E42: No | G42: 1 - 50 | H42: 1
...
